BEGIN:VCALENDAR
VERSION:2.0
PRODID:-//ChamberMaster//Event Calendar 2.0//EN
METHOD:PUBLISH
X-PUBLISHED-TTL:P3D
REFRESH-INTERVAL:P3D
CALSCALE:GREGORIAN
BEGIN:VEVENT
DTSTART:20220413T160000Z
DTEND:20220413T170000Z
X-MICROSOFT-CDO-ALLDAYEVENT:FALSE
SUMMARY:Networking for Results
DESCRIPTION:Facilitated by the ever-engaging Michelle Schafer (ICF-Certified PCC)\, Associate Coach with Clariti Group\, this is the last session in in a series of complimentary workshops aimed at helping individuals move forward in their career.
X-ALT-DESC;FMTTYPE=text/html:<p>Facilitated by the ever-engaging <a href="https://www.linkedin.com/in/michelleschafercoaching/?originalSubdomain=ca">Michelle Schafer</a>&nbsp\;(ICF-Certified PCC)\, Associate Coach with <a href="http://www.claritigroup.ca">Clariti Group</a>\, this is the last session in in a series of complimentary workshops aimed at helping individuals move forward in their career.</p>\n\n<p>&nbsp\;</p>\n
LOCATION:Zoom - please register at https://www.eventbrite.ca/e/networking-for-results-tickets-224242143287 to receive Zoom meeting details.
UID:e.3330.2662
SEQUENCE:3
DTSTAMP:20260422T042955Z
URL:http://westottawabot2.chambermaster.com/events/details/networking-for-results-2662
END:VEVENT

END:VCALENDAR
