BEGIN:VCALENDAR
VERSION:2.0
PRODID:-//ChamberMaster//Event Calendar 2.0//EN
METHOD:PUBLISH
X-PUBLISHED-TTL:P3D
REFRESH-INTERVAL:P3D
CALSCALE:GREGORIAN
BEGIN:VEVENT
DTSTART:20221018T143000Z
DTEND:20221018T170000Z
X-MICROSOFT-CDO-ALLDAYEVENT:FALSE
SUMMARY:Innovation Igniter
DESCRIPTION:Ignite innovation by learning the fundamentals of a proven\, repeatable process that enables you to innovate with confidence.\n\n\n\nWHO IT'S FOR\n\nThe Innovation Igniter program is for leaders and teams who need the innovative mindset\, skills\, and tools required to overcome the biggest challenges and seize the greatest opportunities that exist in the world today.\n\n\n\nWHY LEARN TO INNOVATE?\n\n\n	We have all experienced disruption to our work\n	We need new solutions to new problems\n	We need to learn the skills to keep up to and lead change\n	We need to invigorate a new economy with meaningful innovations\n\n\nEveryone talks about innovation as the key to company (and career) success in this rapidly changing world. Few have had an opportunity to learn a front-to-back system to innovate   until now.\n\n\n\nWHAT YOU'LL LEARN\n\nYou will learn a proven\, repeatable system for innovation that will accelerate your organization's growth\, while building the skillset required to quickly respond to emerging challenges or opportunities. Skills you will learn include: \n\n\n	How to create ideas and problem solve (with methods 8x more effective than brainstorming)\n	How to use proven tools and techniques to grow your innovation skillset\n	How to develop\, communicate\, test and validate ideas to show return on investment\n	How to take an idea from inspiration to launch   FAST\n\n\n\nHOW IT WORKS\n\n\n\nThis program features semi-weekly virtual facilitated classes to build your innovation skillset quickly. We'll do that through: \n\n\n \n\n\n\n	Convenient online digital classes: Before attending each module\, you will watch a few training videos to give you a foundation of knowledge prior to attending the live class. There will be a total of 4-hours of videos for this course.\n	Practical hands-on modules: Since you will watch your training videos prior to each module\, we will spend our live class together on practical hands-on activities.\n	Post-training application and coaching support: With the help of your innovation coach\, you'll complete your coursework by applying your new innovation skills and tools in the real world.
X-ALT-DESC;FMTTYPE=text/html:<div>\n<div>\n<p>Ignite innovation by learning the fundamentals of a proven\, repeatable process that enables you to innovate with confidence.</p>\n</div>\n</div>\n\n<p>WHO IT&rsquo\;S FOR<br />\nThe Innovation Igniter program is for leaders and teams who need the innovative mindset\, skills\, and tools required to overcome the biggest challenges and seize the greatest opportunities that exist in the world today.<br />\n<br />\nWHY LEARN TO INNOVATE?</p>\n\n<ul>\n	<li>We have all experienced disruption to our work</li>\n	<li>We need new solutions to new problems</li>\n	<li>We need to learn the skills to keep up to and lead change</li>\n	<li>We need to invigorate a new economy with meaningful innovations</li>\n</ul>\n\n<p>Everyone talks about innovation as the key to company (and career) success in this rapidly changing world. Few have had an opportunity to learn a front-to-back system to innovate &ndash\; until now.<br />\n<br />\nWHAT YOU&rsquo\;LL LEARN<br />\nYou will learn a proven\, repeatable system for innovation that will accelerate your organization&rsquo\;s growth\, while building the skillset required to quickly respond to emerging challenges or opportunities. Skills you will learn include:&nbsp\;</p>\n\n<ul>\n	<li>How to create ideas and problem solve (with methods 8x more effective than brainstorming)</li>\n	<li>How to use proven tools and techniques to grow your innovation skillset</li>\n	<li>How to develop\, communicate\, test and validate ideas to show return on investment</li>\n	<li>How to take an idea from inspiration to launch &ndash\; FAST</li>\n</ul>\n<br />\nHOW IT WORKS<br />\n<br />\nThis program features semi-weekly virtual facilitated classes to build your innovation skillset quickly. We&rsquo\;ll do that through:&nbsp\;\n<div>\n<div>\n<div>&nbsp\;</div>\n</div>\n\n<ol>\n	<li><strong>Convenient online digital classes:</strong>&nbsp\;Before attending each module\, you will watch a few training videos to give you a foundation of knowledge prior to attending the live class. There will be a total of 4-hours of videos for this course.</li>\n	<li><strong>Practical hands-on modules:</strong>&nbsp\;Since you will watch your training videos prior to each module\, we will spend our live class together on practical hands-on activities.</li>\n	<li><strong>Post-training application and coaching support:</strong>&nbsp\;With the help of your innovation coach\, you&rsquo\;ll complete your coursework by applying your new innovation skills and tools in the real world.</li>\n</ol>\n</div>\n
LOCATION:
UID:e.3330.3315
SEQUENCE:3
DTSTAMP:20260420T043746Z
URL:http://westottawabot2.chambermaster.com/events/details/innovation-igniter-3315
END:VEVENT

END:VCALENDAR
