BEGIN:VCALENDAR
VERSION:2.0
PRODID:-//ChamberMaster//Event Calendar 2.0//EN
METHOD:PUBLISH
X-PUBLISHED-TTL:P3D
REFRESH-INTERVAL:P3D
CALSCALE:GREGORIAN
BEGIN:VEVENT
DTSTART:20220421T140000Z
DTEND:20220421T150000Z
X-MICROSOFT-CDO-ALLDAYEVENT:FALSE
SUMMARY:Building a Resilient and Committed Workforce
DESCRIPTION:Join us April 21\, 2022 at 10:00AM for a two part workshop focused on building a resilient and committed workforce.\n\nHosted by Andrea Greenhous\, President of Vision2Voice.\n\nAndrea received the ADKAR Change Management certificate from PROSCI in 2015. She is also a recipient of the Gender-Based Analysis Plus certification from the Government of Canada\, enabling her understanding of how various identity factors (including gender) can influence the experience of individuals. When she is not working\, Andrea (a former competitive triathlete) can be found cycling\,cross-country skiing\, or running.\n\n\nPart 1: 30 minutes\n\n  Understand human motivation and what matters to employees\n\n  Learn how communication impacts the employee experience and can build connection\,confidence and create an exceptional customer experience\n\n  Discover a simple formula for communication\n\n  Put theory into practice\n\n\n\nPart 2: 30 minutes\n\n  Learn about psychological safety - why it matters and how to build it\n\n  Understand burnout\, boundaries\, and mental health\n\n  Realize the role of gratitude and celebration in creating a great place to work\n\n  Put theory into practice\n\n\n\nWorkbook and materials will be included in this workshop.\n\n\n\nThis workshop is hosted in partnership with the Workforce Confidence Initiative brought to you by Ottawa Board of Trade and Ottawa Tourism. Click here to learn more.
X-ALT-DESC;FMTTYPE=text/html:<p style="caret-color: rgb(0\, 0\, 0)\; color: rgb(0\, 0\, 0)\;"><span style="font-size:14px\;"><span style="font-family:tahoma\;">Join us<strong> April 21\, 2022 at 10:00AM</strong>&nbsp\;for a two part workshop focused on building a resilient and committed workforce.</span></span></p>\n\n<p style="caret-color: rgb(0\, 0\, 0)\; color: rgb(0\, 0\, 0)\;"><span style="font-size:14px\;"><span style="font-family:tahoma\;"><strong>Hosted by Andrea Greenhous\, President of Vision2Voice.</strong></span></span></p>\n\n<p style="caret-color: rgb(0\, 0\, 0)\; color: rgb(0\, 0\, 0)\;"><span style="font-size:14px\;"><span style="font-family:tahoma\;">Andrea received the ADKAR Change Management certificate from PROSCI in 2015. She is also a recipient of the Gender-Based Analysis Plus certification from the Government of Canada\, enabling her understanding of how various identity factors (including gender) can influence the experience of individuals. When she is not working\, Andrea (a former competitive triathlete) can be found cycling\,cross-country skiing\, or running.</span></span></p>\n<br />\n<span style="font-size:14px\;"><span style="font-family:tahoma\;"><strong>Part 1: 30 minutes</strong><br />\n&#9679\; Understand human motivation and what matters to employees<br />\n&#9679\; Learn how communication impacts the employee experience and can build connection\,confidence and create an exceptional customer experience<br />\n&#9679\; Discover a simple formula for communication<br />\n&#9679\; Put theory into practice<br />\n<br />\n<strong>Part 2: 30 minutes</strong><br />\n&#9679\; Learn about psychological safety - why it matters and how to build it<br />\n&#9679\; Understand burnout\, boundaries\, and mental health<br />\n&#9679\; Realize the role of gratitude and celebration in creating a great place to work<br />\n&#9679\; Put theory into practice<br />\n<br />\n<strong>Workbook and materials will be included in this workshop.</strong></span></span><br />\n<br />\n<font face="tahoma"><span style="font-size: 14px\;">This workshop is hosted in partnership with the&nbsp\;</span></font><strong><font face="tahoma"><span style="font-size: 14px\;">Workforce Confidence Initiative&nbsp\;</span></font></strong><font face="tahoma"><span style="font-size: 14px\;">brought to you by</span></font><strong><font face="tahoma"><span style="font-size: 14px\;">&nbsp\;Ottawa Board of Trade&nbsp\;</span></font></strong><font face="tahoma"><span style="font-size: 14px\;">and</span></font><strong><font face="tahoma"><span style="font-size: 14px\;">&nbsp\;Ottawa Tourism.&nbsp\;<a href="https://www.ottawabot.ca/workforceconfidence-2/">Click here to learn more.&nbsp\;</a></span></font></strong>
LOCATION:This event will be held virtually over Zoom.
UID:e.3330.2841
SEQUENCE:3
DTSTAMP:20260421T233327Z
URL:http://westottawabot2.chambermaster.com/events/details/building-a-resilient-and-committed-workforce-2841
END:VEVENT

END:VCALENDAR
